BEGIN:VCALENDAR
VERSION:2.0
PRODID:-//Capital Kennel Club of Juneau//NONSGML kigkonsult.se iCalcreator 2.41.92//
CALSCALE:GREGORIAN
METHOD:PUBLISH
UID:64336461-6463-4838-a263-323365313530
X-WR-CALNAME:iCagenda
X-WR-CALDESC:Event Management Extension for Joomla!
X-WR-RELCALID:3E26604A-50F4-4449-8B3E-E4F4932D05B5
X-WR-TIMEZONE:America/Juneau
BEGIN:VTIMEZONE
TZID:America/Juneau
TZUNTIL:20231105T100000Z
BEGIN:STANDARD
TZNAME:AKST
DTSTART:20211107T020000
TZOFFSETFROM:-0800
TZOFFSETTO:-0900
RDATE:20221106T020000
END:STANDARD
BEGIN:DAYLIGHT
TZNAME:AKDT
DTSTART:20210314T020000
TZOFFSETFROM:-0900
TZOFFSETTO:-0800
RDATE:20220313T020000
RDATE:20230312T020000
END:DAYLIGHT
END:VTIMEZONE
BEGIN:VEVENT
UID:34653133-3066-4362-a134-663936326436
DTSTAMP:20260420T083757Z
CATEGORIES:Obedience
CLASS:PUBLIC
DESCRIPTION;ALTREP="CID:<FFFF__=0ABBE548DFE235B58f9e8a93d@coffeebean.com>":
 There will be practices on Saturday mornings each week.  There will be two
  one hour sessions:  10:00am to 11:00am and 11:00am to 12:00pm which inclu
 des set up time.\nMasks are required. Since it is difficult to always main
 tain social distancing\, participants must be fully vaccinated.\nCKCOJ Mem
 bers Only.\nPLEASE PLAN TIME TO PARTICIPATE IN SET UP AND CLEAN UP OF EQUI
 PMENT
DTSTART:20211204T190000Z
DTEND:20211204T210000Z
GEO:+58.2757;-134.395996
LOCATION:Mount Jumbo Gym
ORGANIZER;CN=:mailto:slh@ak.net
SEQUENCE:1
SUMMARY:Obedience/Rally Un-facilitated Practice - Nov-Dec 2021
TRANSP:OPAQUE
URL:https://www.ckcoj.org/index.php/component/icagenda/110-2017-08-27-21-33
 -10/2021-12-04-10-00?Itemid=101
END:VEVENT
END:VCALENDAR
