BEGIN:VCALENDAR
VERSION:2.0
PRODID:-//Capital Kennel Club of Juneau//NONSGML kigkonsult.se iCalcreator 2.41.92//
CALSCALE:GREGORIAN
METHOD:PUBLISH
UID:61396539-3530-4531-b863-386333383964
X-WR-CALNAME:iCagenda
X-WR-CALDESC:Event Management Extension for Joomla!
X-WR-RELCALID:3E26604A-50F4-4449-8B3E-E4F4932D05B5
X-WR-TIMEZONE:America/Juneau
BEGIN:VTIMEZONE
TZID:America/Juneau
TZUNTIL:20191103T100000Z
BEGIN:STANDARD
TZNAME:AKST
DTSTART:20171105T020000
TZOFFSETFROM:-0800
TZOFFSETTO:-0900
RDATE:20181104T020000
END:STANDARD
BEGIN:DAYLIGHT
TZNAME:AKDT
DTSTART:20170312T020000
TZOFFSETFROM:-0900
TZOFFSETTO:-0800
RDATE:20180311T020000
RDATE:20190310T020000
END:DAYLIGHT
END:VTIMEZONE
BEGIN:VEVENT
UID:65393335-3535-4866-a535-306264313835
DTSTAMP:20260425T105121Z
CATEGORIES:Manners Class
CLASS:PUBLIC
DESCRIPTION;ALTREP="CID:<FFFF__=0ABBE548DFE235B58f9e8a93d@coffeebean.com>":
 This class is a six week course for dogs over 6 months of age. It’s main d
 esign is for the family dog. It is totally on leash. The class will focus 
 on behaviors owners want most\, such as coming when called\, polite greeti
 ngs\, walking on a loose leash and other basic commands.\nWe assume your d
 og has no training from the start\, so the emphasis is on the basic comman
 ds. Another focus throughout the class is getting your dog to learn to ign
 ore other dogs while on leash. We also work on exercises that will help yo
 u and your dog be better prepared when you are out and about on the trails
 . It’s also a good refresher class if you are interested in moving on to f
 ormal obedience\, rally obedience\, agility\, or other dog sports.\nAny do
 g that bites\, growls\, lunges\, or exhibits any behavior that the instruc
 tor feels creates an unsafe situation toward other dogs or humans will be 
 excused from class.
DTSTART:20171116T031500Z
DTEND:20171116T041500Z
GEO:+58.363068;-134.514603
LOCATION:DZ Middle School Commons area on Renninger Drive
ORGANIZER;CN=:mailto:heyz@acsalaska.net
SEQUENCE:1
SUMMARY:Manners Class - Oct-Nov
TRANSP:OPAQUE
URL:https://www.ckcoj.org/index.php/component/icagenda/16-manners-class-2-j
 un-jul-2/2017-11-15-18-15?Itemid=101&iccaldate=2026-4-1
END:VEVENT
END:VCALENDAR
