BEGIN:VCALENDAR
VERSION:2.0
PRODID:-//Capital Kennel Club of Juneau//NONSGML kigkonsult.se iCalcreator 2.41.92//
CALSCALE:GREGORIAN
METHOD:PUBLISH
UID:33373861-3364-4639-a639-343032636462
X-WR-CALNAME:iCagenda
X-WR-CALDESC:Event Management Extension for Joomla!
X-WR-RELCALID:3E26604A-50F4-4449-8B3E-E4F4932D05B5
X-WR-TIMEZONE:America/Juneau
BEGIN:VTIMEZONE
TZID:America/Juneau
TZUNTIL:20190310T110000Z
BEGIN:STANDARD
TZNAME:AKST
DTSTART:20161106T020000
TZOFFSETFROM:-0800
TZOFFSETTO:-0900
RDATE:20171105T020000
RDATE:20181104T020000
END:STANDARD
BEGIN:DAYLIGHT
TZNAME:AKDT
DTSTART:20170312T020000
TZOFFSETFROM:-0900
TZOFFSETTO:-0800
RDATE:20180311T020000
END:DAYLIGHT
END:VTIMEZONE
BEGIN:VEVENT
UID:39343334-3162-4033-a561-303263346164
DTSTAMP:20260425T150904Z
CATEGORIES:Obedience
CLASS:PUBLIC
DESCRIPTION;ALTREP="CID:<FFFF__=0ABBE548DFE235B58f9e8a93d@coffeebean.com>":
 This class addresses the UKC Novice Exercises\;  Heel on leash\, Stand for
  Exam\, Heel off Leash\, Recall Over the High Jump\, Honoring\, Group Sit/
 Stay\, as well as\, handing for competition will be covered.
DTSTART:20170715T170000Z
DTEND:20170715T170000Z
GEO:+58.389019;-134.647873
LOCATION:Auke Bay School Covered Playground
ORGANIZER;CN=:mailto:pakalbaugh@gmail.com
SEQUENCE:1
SUMMARY:Novice Obedience Class - May-Jul
TRANSP:OPAQUE
URL:https://www.ckcoj.org/index.php/component/icagenda/2-novice-obedience-c
 lass/2017-07-15-09-00?Itemid=101&iccaldate=2026-3-1
END:VEVENT
END:VCALENDAR
