BEGIN:VCALENDAR
VERSION:2.0
PRODID:-//Capital Kennel Club of Juneau//NONSGML kigkonsult.se iCalcreator 2.41.92//
CALSCALE:GREGORIAN
METHOD:PUBLISH
UID:36383235-3030-4462-b530-646437623265
X-WR-CALNAME:iCagenda
X-WR-CALDESC:Event Management Extension for Joomla!
X-WR-RELCALID:3E26604A-50F4-4449-8B3E-E4F4932D05B5
X-WR-TIMEZONE:America/Juneau
BEGIN:VTIMEZONE
TZID:America/Juneau
TZUNTIL:20191103T100000Z
BEGIN:STANDARD
TZNAME:AKST
DTSTART:20171105T020000
TZOFFSETFROM:-0800
TZOFFSETTO:-0900
RDATE:20181104T020000
END:STANDARD
BEGIN:DAYLIGHT
TZNAME:AKDT
DTSTART:20170312T020000
TZOFFSETFROM:-0900
TZOFFSETTO:-0800
RDATE:20180311T020000
RDATE:20190310T020000
END:DAYLIGHT
END:VTIMEZONE
BEGIN:VEVENT
UID:65343565-3537-4635-b965-363033656661
DTSTAMP:20260425T134531Z
CATEGORIES:Obedience
CLASS:PUBLIC
DESCRIPTION;ALTREP="CID:<FFFF__=0ABBE548DFE235B58f9e8a93d@coffeebean.com>":
 Open/Utility Obedience Fun Match is open to CKCOJ Members Only.\nPut Satur
 day\, Dec 9 on your calendar for an obedience Fun Match at Mt. Jumbo gym f
 rom 9 a.m. - 12 noon.\n \nSetup will be at 8:45. Please plan to help with 
 setup OR cleanup and if you can do both\, you are awesome! We will be recr
 uiting stewards from participants and will try not to have you steward dur
 ing your class. \n \nLet me know in advance your dog's name\, jump height 
 and level (novice\, open or utility) and how many runs you want at each le
 vel. Everyone will get at least one run and those that want a second run w
 ill be accommodated if we have time on first come\, first served basis.\n 
 \nYour Nov/Dec practice session fee will cover your first run. Second runs
  will be $7.50. Drop ins  (those not currently registered for the session)
  will pay the regular drop in fee for the first run and $7.50 for addition
 al runs.
DTSTART:20171209T180000Z
DTEND:20171209T210000Z
GEO:+58.2757;-134.395996
LOCATION:Mount Jumbo Gym
ORGANIZER;CN=:mailto:pakalbaugh@gmail.com
SEQUENCE:1
SUMMARY:Obedience Fun Match
TRANSP:OPAQUE
URL:https://www.ckcoj.org/index.php/component/icagenda/20-2017-06-16-00-22-
 56/2017-12-09-09-00?Itemid=101&iccaldate=2026-6-1
END:VEVENT
END:VCALENDAR
