BEGIN:VCALENDAR
VERSION:2.0
PRODID:-//Capital Kennel Club of Juneau//NONSGML kigkonsult.se iCalcreator 2.41.92//
CALSCALE:GREGORIAN
METHOD:PUBLISH
UID:64396662-3133-4434-b466-616134303366
X-WR-CALNAME:iCagenda
X-WR-CALDESC:Event Management Extension for Joomla!
X-WR-RELCALID:3E26604A-50F4-4449-8B3E-E4F4932D05B5
X-WR-TIMEZONE:America/Juneau
BEGIN:VTIMEZONE
TZID:America/Juneau
TZUNTIL:20271107T100000Z
BEGIN:STANDARD
TZNAME:AKST
DTSTART:20251102T020000
TZOFFSETFROM:-0800
TZOFFSETTO:-0900
RDATE:20261101T020000
END:STANDARD
BEGIN:DAYLIGHT
TZNAME:AKDT
DTSTART:20260308T020000
TZOFFSETFROM:-0900
TZOFFSETTO:-0800
RDATE:20270314T020000
END:DAYLIGHT
END:VTIMEZONE
BEGIN:VEVENT
UID:39656166-6135-4037-b936-376561386533
DTSTAMP:20260419T133755Z
CATEGORIES:Canine Good Citizen
CLASS:PUBLIC
DESCRIPTION;ALTREP="CID:<FFFF__=0ABBE548DFE235B58f9e8a93d@coffeebean.com>":
 The Capital Kennel Club of Juneau is hosting a Canine Good Citizen Evaluat
 ion on Saturday\, April 18\, from noon till 1:30 pm at the Mount Jumbo Gym
  in Douglas.\nThe cost of the evaluation is $25 per dog per test.\nThis is
  a test/evaluation to determine whether a dog successfully completes the 1
 0 elements of the CGC evaluation as established by the American Kennel Clu
 b. A dog that successfully completes all elements of the evaluation will b
 e certified as a Canine Good Citizen. The evaluation will take about 10-15
  minutes per dog.\nIf you are interested in having your dog evaluated\, pl
 ease contact me and I will email a registration form to you.\nHere are som
 e videos and information about CGC evaluations:\n\nCanine Good Citizen (CG
 C) – American Kennel Club\nIntroduction to AKC Canine Good Citizen Test\nC
 anine Good Citizen - Everything You Need To Know About The Test - YouTube&
 nbsp\;&nbsp\;This video accurately describes the test procedure.\n\nThere 
 will not be any preparatory class prior to this evaluation.
DTSTART:20260418T200000Z
DTEND:20260418T200000Z
GEO:00;0
LOCATION:Mt Jumbo Gym
ORGANIZER;CN=:mailto:norwaypt907@gmail.com
SEQUENCE:1
SUMMARY:Canine Good Citizen (CGC) Testing April 2026
TRANSP:OPAQUE
URL:https://www.ckcoj.org/index.php/component/icagenda/266-canine-good-citi
 zen-cgc-testing-april-2026/2026-04-18-12-00?Itemid=101&iccaldate=2026-12-1
END:VEVENT
END:VCALENDAR
