BEGIN:VCALENDAR
VERSION:2.0
PRODID:-//Capital Kennel Club of Juneau//NONSGML kigkonsult.se iCalcreator 2.41.92//
CALSCALE:GREGORIAN
METHOD:PUBLISH
UID:66383735-3338-4538-b036-633866386331
X-WR-CALNAME:iCagenda
X-WR-CALDESC:Event Management Extension for Joomla!
X-WR-RELCALID:3E26604A-50F4-4449-8B3E-E4F4932D05B5
X-WR-TIMEZONE:America/Juneau
BEGIN:VTIMEZONE
TZID:America/Juneau
TZUNTIL:20190310T110000Z
BEGIN:STANDARD
TZNAME:AKST
DTSTART:20161106T020000
TZOFFSETFROM:-0800
TZOFFSETTO:-0900
RDATE:20171105T020000
RDATE:20181104T020000
END:STANDARD
BEGIN:DAYLIGHT
TZNAME:AKDT
DTSTART:20170312T020000
TZOFFSETFROM:-0900
TZOFFSETTO:-0800
RDATE:20180311T020000
END:DAYLIGHT
END:VTIMEZONE
BEGIN:VEVENT
UID:30653663-6231-4238-b631-613733353564
DTSTAMP:20260425T151039Z
CATEGORIES:CKCOJ Organization
CLASS:PUBLIC
DESCRIPTION;ALTREP="CID:<FFFF__=0ABBE548DFE235B58f9e8a93d@coffeebean.com>":
 The CKCOJ board will gather for its monthly meeting at the downtown librar
 y small conference room. All CKCOJ members are welcome to attend.
DTSTART:20170721T023000Z
DTEND:20170721T023000Z
GEO:+58.298515;-134.403976
LOCATION:Juneau Downtown Library - Small Conference Room
ORGANIZER:
SEQUENCE:1
SUMMARY:CKCOJ Board Meeting Downtown Library
TRANSP:OPAQUE
URL:https://www.ckcoj.org/index.php/component/icagenda/3-ckcoj-board-meetin
 g/2017-07-20-18-30?Itemid=101&iccaldate=2026-5-1
END:VEVENT
END:VCALENDAR
