BEGIN:VCALENDAR
VERSION:2.0
PRODID:-//Capital Kennel Club of Juneau//NONSGML kigkonsult.se iCalcreator 2.41.92//
CALSCALE:GREGORIAN
METHOD:PUBLISH
UID:61393631-6162-4236-b836-666531313938
X-WR-CALNAME:iCagenda
X-WR-CALDESC:Event Management Extension for Joomla!
X-WR-RELCALID:3E26604A-50F4-4449-8B3E-E4F4932D05B5
X-WR-TIMEZONE:America/Juneau
BEGIN:VTIMEZONE
TZID:America/Juneau
TZUNTIL:20211107T100000Z
BEGIN:STANDARD
TZNAME:AKST
DTSTART:20191103T020000
TZOFFSETFROM:-0800
TZOFFSETTO:-0900
RDATE:20201101T020000
END:STANDARD
BEGIN:DAYLIGHT
TZNAME:AKDT
DTSTART:20190310T020000
TZOFFSETFROM:-0900
TZOFFSETTO:-0800
RDATE:20200308T020000
RDATE:20210314T020000
END:DAYLIGHT
END:VTIMEZONE
BEGIN:VEVENT
UID:38303532-6361-4136-b964-306437643738
DTSTAMP:20260422T055357Z
CATEGORIES:Trials
CLASS:PUBLIC
DESCRIPTION;ALTREP="CID:<FFFF__=0ABBE548DFE235B58f9e8a93d@coffeebean.com>":
 Capital Kennel Club of Juneau to Host\n3 UKC Licensed Obedience Trials#131
 \, 132\, and 133\nObedience Schedule\n\n\n\n\n\n \nSat Trial 1\nSat Trial 
 2\nSun Trial 1\n\n\nEntries Open\n9:00 am\n9:00 am\n9:30 am\n\n\nEntries C
 lose\n9:30 am\n11:00 am\n10:00 am\n\n\nStart Time (no earlier than)\n9:30 
 am\n11:00 am\n10:00 am\n\n\n\nJudge for Novice - Open - Utility\n\nRegina 
 Vose\nRegina Vose\nRegina Vose\n\n\n\n\n\nRing Conditions\nIndoors\, fully
  matted standard size ring\, free standing PVC ring gates.\nMove Ups\nMove
  ups will be accepted at all trials. Please notify the Trial Secretary no 
 later than 15 minutes before judging begins.\nAwards for Licensed Trials\n
 Ribbons for High in Trial\, first through fourth placement\, qualifying sc
 ore\, and high scoring junior.\nClosing Date\nPre-entries must be received
  on or before the Pre-Entry Deadline 01-04-2020 5pm. Entries will also be 
 taken the day of trial (see Trial Schedule below for times).\nPre-Entry Fe
 es\nNote: Pre-entry fees must be received by the below listed Pre-Entry De
 adline 01-04-2020 5pm.\n\n\n\nEvent\nEntry Fee\nNotes\n\n\nObedience\n$25.
 00\n\nFirst Entry - for first entry of a dog by a handler in each trial\n
 \n\n\nObedience\n$20.00\n\nAdditional Dog(s) - First entry of each additio
 nal dog by the same handler in each trial.\n\n\n\nObedience\n$15.00\n\nSec
 ond Entry - for 2nd entry of same dog in the same trial\nEXAMPLES: 1) same
  dog pre-entered in Rally Level 2 and Rally Level 3 at the same trial = $4
 02) same dog entered in Open and Utility at the same trial = $40\n\n\n\n\n
 Day of Show Fees\n\n\n\nEvent\nEntry Fee\nNotes\n\n\nObedience\n$30.00\n\n
 First Entry - for first entry of a dog by a handler in each trial\n\n\n\nO
 bedience\n$25.00\n\nAdditional Dog(s) - First entry of each additional dog
  by the same handler in each trial.\n\n\n\nObedience\n$20.00\n\nSecond Ent
 ry - for 2nd entry of same dog in the same trial\nEXAMPLES: 1) same dog pr
 e-entered in Rally Level 2 and Rally Level 3 at the same trial = $502) sam
 e dog entered in Open and Utility at the same trial = $50\n\n\n\n\nSpecial
  Information\nEntries MUST include the dog's UKC registration number\, no 
 exceptions. Registration info: http://www.ukcdogs.com/Web.nsf/WebPages/Reg
 istration/Home\nThe United Kennel Club complies with the Americans with Di
 sabilities Act. If you require an accommodation\, please contact the Event
  Chair or Secretary for this club’s event.\nPayment\nCash or check made ou
 t to CKCOJ. Emailed entry forms will be accepted from out of town entries.
  Payment from out of town entries are due before the beginning of the 1st 
 trial in which the exhibitor is entered. No credit or debit card payments 
 will be accepted.\nRefund Policy\nRefunds will be granted when requested b
 y the participant for any reason prior to exhibiting the dog in a trial.\n
 Driving Directions\nFrom the Auke Bay Ferry Terminal: turn right out of th
 e terminal parking lot heading toward downtown. Turn right at the 10th str
 eet traffic light and go over the Juneau Douglas bridge. Go left at the ro
 und about heading toward Douglas. Turn right on Fourth Street by Louie’s a
 nd the Douglas mini mart. Jumbo Gym is one block up on the left.
DTSTART:20200111T090000Z
DTEND:20200112T090000Z
GEO:+58.2757;-134.395996
LOCATION:Mount Jumbo Gym
ORGANIZER:
SEQUENCE:1
SUMMARY:UKC Obedience Trial Jan 2020
TRANSP:OPAQUE
URL:https://www.ckcoj.org/index.php/component/icagenda/68-ukc-obedience-tri
 als-dates-2020-jan?Itemid=101&iccaldate=2026-5-1
END:VEVENT
END:VCALENDAR
