BEGIN:VCALENDAR
VERSION:2.0
PRODID:-//Capital Kennel Club of Juneau//NONSGML kigkonsult.se iCalcreator 2.41.92//
CALSCALE:GREGORIAN
METHOD:PUBLISH
UID:38383461-3638-4639-b138-393464643863
X-WR-CALNAME:iCagenda
X-WR-CALDESC:Event Management Extension for Joomla!
X-WR-RELCALID:3E26604A-50F4-4449-8B3E-E4F4932D05B5
X-WR-TIMEZONE:America/Juneau
BEGIN:VTIMEZONE
TZID:America/Juneau
TZUNTIL:20220313T110000Z
BEGIN:STANDARD
TZNAME:AKST
DTSTART:20191103T020000
TZOFFSETFROM:-0800
TZOFFSETTO:-0900
RDATE:20201101T020000
RDATE:20211107T020000
END:STANDARD
BEGIN:DAYLIGHT
TZNAME:AKDT
DTSTART:20200308T020000
TZOFFSETFROM:-0900
TZOFFSETTO:-0800
RDATE:20210314T020000
END:DAYLIGHT
END:VTIMEZONE
BEGIN:VEVENT
UID:65633334-3338-4334-b938-613463353532
DTSTAMP:20260424T165217Z
CATEGORIES:Trials
CLASS:PUBLIC
DESCRIPTION;ALTREP="CID:<FFFF__=0ABBE548DFE235B58f9e8a93d@coffeebean.com>":
 Capital Kennel Club of Juneau to Host\n2 UKC Licensed Obedience Trials#134
 \, and 135\nObedience Schedule\n\n\n\n\n\n \nSat Trial 1\nSat Trial 2\n\n
 \nEntries Open\n9:00 am\n9:00 am\n\n\nEntries Close\n9:30 am\n11:00 am\n\n
 \nStart Time (no earlier than)\n9:30 am\n11:00 am\n\n\n\nJudge for Novice 
 - Open - Utility\n\nRegina Vose\nRegina Vose\n\n\n\n\n\nRing Conditions\nC
 overed Playground\, Outdoors\, fully matted\, concrete floor\, standard si
 ze ring\, free standing PVC ring gates.\nMove Ups\nMove ups will be accept
 ed at all trials. Please notify the Trial Secretary no later than 15 minut
 es before judging begins.\nAwards for Licensed Trials\nRibbons for High in
  Trial\, first through fourth placement\, and qualifying score.\nClosing D
 ate\nPre-entries must be received on or before the Pre-Entry Deadline Frid
 ay 08-21-2020 5pm. Entries will also be taken the day of trial (see Trial 
 Schedule below for times).\nPre-Entry Fees\nNote: Pre-entry fees must be r
 eceived by the below listed Pre-Entry Deadline Friday 08-21-2020 5pm.\n\n
 \n\nEvent\nEntry Fee\nNotes\n\n\nObedience\n$25.00\n\nFirst Entry - for fi
 rst entry of a dog by a handler in each trial\n\n\n\nObedience\n$20.00\n\n
 Additional Dog(s) - First entry of each additional dog by the same handler
  in each trial.\n\n\n\nObedience\n$15.00\n\nSecond Entry - for 2nd entry o
 f same dog in the same trial\nEXAMPLES: 1) same dog pre-entered in Rally L
 evel 2 and Rally Level 3 at the same trial = $402) same dog entered in Ope
 n and Utility at the same trial = $40\n\n\n\n\nDay of Show Fees\n\n\n\nEve
 nt\nEntry Fee\nNotes\n\n\nObedience\n$30.00\n\nFirst Entry - for first ent
 ry of a dog by a handler in each trial\n\n\n\nObedience\n$25.00\n\nAdditio
 nal Dog(s) - First entry of each additional dog by the same handler in eac
 h trial.\n\n\n\nObedience\n$20.00\n\nSecond Entry - for 2nd entry of same 
 dog in the same trial\nEXAMPLES: 1) same dog pre-entered in Rally Level 2 
 and Rally Level 3 at the same trial = $502) same dog entered in Open and U
 tility at the same trial = $50\n\n\n\n\nSpecial Information\nEntries MUST 
 include the dog's UKC registration number\, no exceptions. Registration in
 fo: http://www.ukcdogs.com/Web.nsf/WebPages/Registration/Home\nThe United 
 Kennel Club complies with the Americans with Disabilities Act. If you requ
 ire an accommodation\, please contact the Event Chair or Secretary for thi
 s club’s event.\nPayment\nCash or check made out to CKCOJ. Emailed entry f
 orms will be accepted from out of town entries. Payment from out of town e
 ntries are due before the beginning of the 1st trial in which the exhibito
 r is entered. No credit or debit card payments will be accepted.\nRefund P
 olicy\nRefunds will be granted when requested by the participant for any r
 eason prior to exhibiting the dog in a trial.\nDriving Directions\nFrom do
 wntown Juneau or Juneau Airport\, go north on Egan Drive toward the Ferry 
 Terminal. Drive to Auke Bay. About 1/4 mile past the Auke Bay roundabout\,
  turn right into the Auke Bay School parking lot. The covered playground i
 s behind the school.\nNote on Health and Safety\nMasks are required for ev
 eryone under the cover of the playground. Appropriate social distancing is
  also required. Gloves will be available for anyone handling equipment. Sa
 nitizer will be provided and use encouraged. Snacks should be consumed out
 side of the covered area. Other health and safety requirements may be post
 ed on the day of the trial.
DTSTART:20200829T080000Z
DTEND:20200829T080000Z
GEO:00;0
LOCATION:Auke Bay Elementary School Covered Playground
ORGANIZER:
SEQUENCE:1
SUMMARY:UKC Obedience Trial Aug 2020
TRANSP:OPAQUE
URL:https://www.ckcoj.org/index.php/component/icagenda/93-ukc-obedience-tri
 als-dates-2020-aug?Itemid=101&iccaldate=2026-5-1
END:VEVENT
END:VCALENDAR
