BEGIN:VCALENDAR
VERSION:2.0
PRODID:-//Capital Kennel Club of Juneau//NONSGML kigkonsult.se iCalcreator 2.41.92//
CALSCALE:GREGORIAN
METHOD:PUBLISH
UID:63643536-6638-4039-b730-356463383539
X-WR-CALNAME:iCagenda
X-WR-CALDESC:Event Management Extension for Joomla!
X-WR-RELCALID:3E26604A-50F4-4449-8B3E-E4F4932D05B5
X-WR-TIMEZONE:America/Juneau
BEGIN:VTIMEZONE
TZID:America/Juneau
TZUNTIL:20191103T100000Z
BEGIN:STANDARD
TZNAME:AKST
DTSTART:20171105T020000
TZOFFSETFROM:-0800
TZOFFSETTO:-0900
RDATE:20181104T020000
END:STANDARD
BEGIN:DAYLIGHT
TZNAME:AKDT
DTSTART:20170312T020000
TZOFFSETFROM:-0900
TZOFFSETTO:-0800
RDATE:20180311T020000
RDATE:20190310T020000
END:DAYLIGHT
END:VTIMEZONE
BEGIN:VEVENT
UID:64383037-6536-4536-b432-383237326338
DTSTAMP:20260424T043927Z
CATEGORIES:Trials
CLASS:PUBLIC
DESCRIPTION;ALTREP="CID:<FFFF__=0ABBE548DFE235B58f9e8a93d@coffeebean.com>":
 Please check back for Premium and more information.\n\nObedience Schedule
 \n\n\n\n\n \nSat Trial 1\nSat Trial 2\nSun Trial 1\n\n\nEntries Open\n8:30
 am\n10:30pm\n8:30pm\n\n\nEntries Close\n9:00am\n11:00am\n9:00am\n\n\nStart
  Time\n9:00am\n11:00am\n9:00am\n\n\nNovice - Utility\nRegina Vose\nRegina 
 Vose\nRegina Vose\n\n\nBackup Judge\nPatricia A Kalbaugh\nPatricia A Kalba
 ugh\nPatricia A Kalbaugh\n\n\n\n\n\nPre-Entry Fees\n\n\n\nEvent\nEntry Fee
 \nNotes\n\n\nJunior Showmanship\n--\n$15 Jr. Handler\, $12 2nd entry same 
 dog/same trial\n\n\nObedience\n$20.00\n$15 2nd entry same dog/same trial\n
 \n\n\nDay of Show Fees\n\n\n\nEvent\nEntry Fee\nNotes\n\n\nJunior Showmans
 hip\n--\n \n\n\nObedience\n$25.00\n$20 2nd entry same dog/same trial\n\n
DTSTART:20180113T173000Z
DTEND:20180114T193000Z
GEO:+58.2757;-134.395996
LOCATION:Mount Jumbo Gym
ORGANIZER;CN=:mailto:norwaypt@gci.net
SEQUENCE:1
SUMMARY:UKC Obedience Trials
TRANSP:OPAQUE
URL:https://www.ckcoj.org/index.php/component/icagenda/10-ukc-obedience-tri
 als-dates-2018-jan?Itemid=101
END:VEVENT
END:VCALENDAR
