BEGIN:VCALENDAR
VERSION:2.0
PRODID:-//Capital Kennel Club of Juneau//NONSGML kigkonsult.se iCalcreator 2.41.92//
CALSCALE:GREGORIAN
METHOD:PUBLISH
UID:35396430-6532-4335-b537-386263646337
X-WR-CALNAME:iCagenda
X-WR-CALDESC:Event Management Extension for Joomla!
X-WR-RELCALID:3E26604A-50F4-4449-8B3E-E4F4932D05B5
X-WR-TIMEZONE:America/Juneau
BEGIN:VTIMEZONE
TZID:America/Juneau
TZUNTIL:20211107T100000Z
BEGIN:STANDARD
TZNAME:AKST
DTSTART:20191103T020000
TZOFFSETFROM:-0800
TZOFFSETTO:-0900
RDATE:20201101T020000
END:STANDARD
BEGIN:DAYLIGHT
TZNAME:AKDT
DTSTART:20190310T020000
TZOFFSETFROM:-0900
TZOFFSETTO:-0800
RDATE:20200308T020000
RDATE:20210314T020000
END:DAYLIGHT
END:VTIMEZONE
BEGIN:VEVENT
UID:38346565-3432-4065-b139-646537646463
DTSTAMP:20260421T235613Z
CATEGORIES:Agility
CLASS:PUBLIC
DESCRIPTION;ALTREP="CID:<FFFF__=0ABBE548DFE235B58f9e8a93d@coffeebean.com>":
 No prior experience required. Dogs must be at least 12 months old and have
  no issues with other dogs. Bring a crate\, a 6 foot slip leash and small 
 tasty treats.\nHandler must be a member of CKCOJ.
DTSTART:20200214T023000Z
DTEND:20200214T043000Z
GEO:+58.2757;-134.395996
LOCATION:Mount Jumbo Gym
ORGANIZER;CN=:mailto:jillg@gci.net
SEQUENCE:1
SUMMARY:Beginning Agility Class Jan-Mar 2020
TRANSP:OPAQUE
URL:https://www.ckcoj.org/index.php/component/icagenda/83-2017-05-25-17-30-
 53/2020-02-13-17-30?Itemid=101&iccaldate=2026-5-1
END:VEVENT
END:VCALENDAR
