BEGIN:VCALENDAR
VERSION:2.0
PRODID:-//Capital Kennel Club of Juneau//NONSGML kigkonsult.se iCalcreator 2.41.92//
CALSCALE:GREGORIAN
METHOD:PUBLISH
UID:30323637-6631-4633-a564-656634613531
X-WR-CALNAME:iCagenda
X-WR-CALDESC:Event Management Extension for Joomla!
X-WR-RELCALID:3E26604A-50F4-4449-8B3E-E4F4932D05B5
X-WR-TIMEZONE:America/Juneau
BEGIN:VTIMEZONE
TZID:America/Juneau
TZUNTIL:20220313T110000Z
BEGIN:STANDARD
TZNAME:AKST
DTSTART:20191103T020000
TZOFFSETFROM:-0800
TZOFFSETTO:-0900
RDATE:20201101T020000
RDATE:20211107T020000
END:STANDARD
BEGIN:DAYLIGHT
TZNAME:AKDT
DTSTART:20200308T020000
TZOFFSETFROM:-0900
TZOFFSETTO:-0800
RDATE:20210314T020000
END:DAYLIGHT
END:VTIMEZONE
BEGIN:VEVENT
UID:63353065-6230-4136-a162-346565333938
DTSTAMP:20260421T170603Z
CATEGORIES:Rally Obedience
CLASS:PUBLIC
DESCRIPTION;ALTREP="CID:<FFFF__=0ABBE548DFE235B58f9e8a93d@coffeebean.com>":
 This Rally Fun Match is open to the Public.\nCKCOJ will be hosting their F
 all Rally obedience “FUN RUN” on Sunday August 30\, 2020. UKC has a NEW Ra
 lly Rulebook which you can view at https://www.ukcdogs.com/docs/rulebooks/
 2020-rally-rulebook.pdf\, effective July 1\, 2020. Inside the NEW rulebook
 \, there has been added new exercises (in all 3 levels) plus a brand new ‘
 Masters’ level. Anyone practicing Obedience will recognize many of these m
 aster level exercises. The good and the bad on these changes (if you choos
 e to practice rally) will allow you teach your dog a variety of new behavi
 ors beyond sit &amp\; down to engage your dog into the next level.\nPrice 
 will be $5/run. No UKC registration required. Requirements include: levels
  requested (ie 1\, 2\, 3\, or masters)\, number of runs\, jump height\, ju
 dge or no judge\, scored or not scored. Maximum of 17 exercises.\nPlease i
 nclude 'August Rally' on the subject line in any emails.
DTSTART:20200830T170000Z
DTEND:20200830T200000Z
GEO:+58.389019;-134.647873
LOCATION:Auke Bay School Covered Playground
ORGANIZER;CN=:mailto:akdimyk52@yahoo.com
SEQUENCE:1
SUMMARY:Rally Fun Match - Aug 2020
TRANSP:OPAQUE
URL:https://www.ckcoj.org/index.php/component/icagenda/94-rally-fun-match-a
 ug-2020?Itemid=101
END:VEVENT
END:VCALENDAR
