BEGIN:VCALENDAR
VERSION:2.0
PRODID:-//Capital Kennel Club of Juneau//NONSGML kigkonsult.se iCalcreator 2.41.92//
CALSCALE:GREGORIAN
METHOD:PUBLISH
UID:66613736-3130-4535-b661-383233633166
X-WR-CALNAME:iCagenda
X-WR-CALDESC:Event Management Extension for Joomla!
X-WR-RELCALID:3E26604A-50F4-4449-8B3E-E4F4932D05B5
X-WR-TIMEZONE:America/Juneau
BEGIN:VTIMEZONE
TZID:America/Juneau
TZUNTIL:20191103T100000Z
BEGIN:STANDARD
TZNAME:AKST
DTSTART:20161106T020000
TZOFFSETFROM:-0800
TZOFFSETTO:-0900
RDATE:20171105T020000
RDATE:20181104T020000
END:STANDARD
BEGIN:DAYLIGHT
TZNAME:AKDT
DTSTART:20170312T020000
TZOFFSETFROM:-0900
TZOFFSETTO:-0800
RDATE:20180311T020000
RDATE:20190310T020000
END:DAYLIGHT
END:VTIMEZONE
BEGIN:VEVENT
UID:38363564-3735-4937-b665-393962383834
DTSTAMP:20260425T120630Z
CATEGORIES:Obedience
CLASS:PUBLIC
DESCRIPTION;ALTREP="CID:<FFFF__=0ABBE548DFE235B58f9e8a93d@coffeebean.com>":
 The period will be divided into 2 sessions. The first session will be from
  10:00am to 10:50am and will focus on novice/open obedience and rally obed
 ience. There will be two small rings to practice obedience and a larger ri
 ng that can be used for a rally course. The second session will be from 10
 :50am to 11:40am and will focus on open/utility. There will be two rings\,
  one for utility. 20 minutes is allocated for clean up and set up. PLEASE 
 PLAN TIME TO PARTICIPATE IN SET UP AND CLEAN UP OF EQUIPMENT\nAmendment: B
 ased on attendance\, there will be a single session from 10:00am to 11:15a
 m for all categories.
DTSTART:20171021T180000Z
DTEND:20171021T191500Z
GEO:+58.2757;-134.395996
LOCATION:Mount Jumbo Gym
ORGANIZER:
SEQUENCE:1
SUMMARY:Open/Utility Un-facilitated Practice - Sep-Oct
TRANSP:OPAQUE
URL:https://www.ckcoj.org/index.php/component/icagenda/15-open-utility-un-f
 acilitated-practice-sep-oct/2017-10-21-10-00?Itemid=101&iccaldate=2026-5-1
END:VEVENT
END:VCALENDAR
