BEGIN:VCALENDAR
VERSION:2.0
PRODID:-//Capital Kennel Club of Juneau//NONSGML kigkonsult.se iCalcreator 2.41.92//
CALSCALE:GREGORIAN
METHOD:PUBLISH
UID:31636430-3766-4131-a662-346166303332
X-WR-CALNAME:iCagenda
X-WR-CALDESC:Event Management Extension for Joomla!
X-WR-RELCALID:3E26604A-50F4-4449-8B3E-E4F4932D05B5
X-WR-TIMEZONE:America/Juneau
BEGIN:VTIMEZONE
TZID:America/Juneau
TZUNTIL:20220313T110000Z
BEGIN:STANDARD
TZNAME:AKST
DTSTART:20191103T020000
TZOFFSETFROM:-0800
TZOFFSETTO:-0900
RDATE:20201101T020000
RDATE:20211107T020000
END:STANDARD
BEGIN:DAYLIGHT
TZNAME:AKDT
DTSTART:20200308T020000
TZOFFSETFROM:-0900
TZOFFSETTO:-0800
RDATE:20210314T020000
END:DAYLIGHT
END:VTIMEZONE
BEGIN:VEVENT
UID:37303163-3437-4232-b238-326166363431
DTSTAMP:20260421T142227Z
CATEGORIES:Obedience
CLASS:PUBLIC
DESCRIPTION;ALTREP="CID:<FFFF__=0ABBE548DFE235B58f9e8a93d@coffeebean.com>":
 There is no instructor scheduled for these practices.
DTSTART:20200620T170000Z
DTEND:20200620T190000Z
GEO:+58.38966;-134.647751
LOCATION:Auke Bay School Covered Playground
ORGANIZER;CN=:mailto:slh@gci.net
SEQUENCE:1
SUMMARY:Obedience/Rally Practice - Jun-Aug 2020
TRANSP:OPAQUE
URL:https://www.ckcoj.org/index.php/component/icagenda/90-2017-05-27-20-40-
 43/2020-06-20-09-00?Itemid=101&iccaldate=2026-5-1
END:VEVENT
END:VCALENDAR
